BEGIN:VCALENDAR
VERSION:2.0
PRODID:-//Devpost\, Inc.//Lyzr Agentathon//EN
CALSCALE:GREGORIAN
BEGIN:VTIMEZONE
TZID:Asia/Kolkata
BEGIN:STANDARD
DTSTART:19451014T230000
TZOFFSETFROM:+0630
TZOFFSETTO:+0530
TZNAME:IST
END:STANDARD
END:VTIMEZONE
BEGIN:VEVENT
DTSTAMP:20260420T192950Z
UID:e9194ebb-5814-485c-8415-f3a18c6eefeb
DTSTART;TZID=Asia/Kolkata:20260425T100000
DTEND;TZID=Asia/Kolkata:20260425T160000
DESCRIPTION:https://lyzr-agentathon.devpost.com/
LOCATION:Divyasree Technopark Main Rd\, EPIP Zone\, Brookefield\, Bengaluru
 \, Karnataka 560066\, India
SUMMARY:Lyzr Agentathon
BEGIN:VALARM
ACTION:DISPLAY
TRIGGER:-P3D
SUMMARY:Get ready\, the hacking starts in 3 days.
END:VALARM
END:VEVENT
END:VCALENDAR
